BEGIN:VCALENDAR
VERSION:2.0
PRODID:-//wp-events-plugin.com//7.2.3.1//EN
TZID:America/New_York
X-WR-TIMEZONE:America/New_York
BEGIN:VEVENT
UID:2653@sherwoodforestneighbors.org
DTSTART;TZID=America/New_York:20260517T130000
DTEND;TZID=America/New_York:20260517T160000
DTSTAMP:20260420T164807Z
URL:https://sherwoodforestneighbors.org/calendar/community-wildlife-habita
 t-certification-launch
SUMMARY:Community Wildlife Habitat Certification Launch
DESCRIPTION:Sherwood Forest Neighborhood Association has registered to beco
 me a Community Wildlife Habitat through the National Wildlife Federation.
   This program offers many bonuses for our neighborhood.  It will:\n\n\n
  	Help residents to understand the benefits of gardening for wildlife and 
 give them tools to do it.\n 	Encourage even greater community building.\n 
 	Increase plant diversity and the beauty of our neighborhood.\n 	Ensure th
 at our neighborhood is a place where both wildlife and people thrive.\n 	I
 ncrease opportunities for children to connect with nature.\n\n*Little know
 n fact – about a dozen neighborhood properties are already individually 
 certified as Wildlife Habitats\, including the Belser Arboretum!\nWe will 
 need at least 26 more neighbors to get their properties certified.  And t
 o that end\, we are having a launch celebration at the Belser Arboretum on
  Sunday May 17 between 1 and 4 PM with fun giveaways and lots of support f
 or getting your yard certified as a Wildlife Habitat.  Bring yourself\, b
 ring your family and neighbors.  If you want a peek at what getting certi
 fied involves (it’s really pretty easy!)\, take a look at this checklist
 : https://www.nwf.org/-/media/PDFs/Garden-for-Wildlife/Certified-Wildlife-
 Habitat/NWF_Garden-Certification-Checklist.pdf\nAnd then come with your qu
 estions and ideas! First 30 residents to commit to certifying their yards 
 will get a Wildlife Habitat sign paid for by the neighborhood association 
 – a $35 value.  You pay for your certification (only $25)\, and we’ll
  pay for the sign.  And the National Wildlife Federation is offering a 20
 % discount on the bundle this month!
CATEGORIES:SFNA Events
LOCATION:W. Gordon Belser Arboretum\, 4080 Bloomwood Road\, Columbia\, SC\,
  29205\, United States
GEO:33.992844;-80.98469
X-APPLE-STRUCTURED-LOCATION;VALUE=URI;X-ADDRESS=4080 Bloomwood Road\, Colum
 bia\, SC\, 29205\, United States;X-APPLE-RADIUS=100;X-TITLE=W. Gordon Bels
 er Arboretum:geo:33.992844,-80.98469
END:VEVENT
BEGIN:VTIMEZONE
TZID:America/New_York
X-LIC-LOCATION:America/New_York
BEGIN:DAYLIGHT
DTSTART:20260308T030000
TZOFFSETFROM:-0500
TZOFFSETTO:-0400
TZNAME:EDT
END:DAYLIGHT
END:VTIMEZONE
END:VCALENDAR