BEGIN:VCALENDAR
VERSION:2.0
PRODID:-//wp-events-plugin.com//7.2.3.1//EN
TZID:America/New_York
X-WR-TIMEZONE:America/New_York
BEGIN:VEVENT
UID:2550@sherwoodforestneighbors.org
DTSTART;TZID=America/New_York;VALUE=DATE:20261210
DTEND;TZID=America/New_York;VALUE=DATE:20261211
DTSTAMP:20260101T214332Z
URL:https://sherwoodforestneighbors.org/calendar/recycling-pick-up-2026-01
 -08-2026-02-12-2026-03-12-2026-04-09-2026-05-14-2026-06-11-2026-07-09-2026
 -08-13-2026-09-10-2026-10-08-2026-11-12-2026-12-10
SUMMARY:Recycling Pick Up
DESCRIPTION:The City of Columbia picks up recycling from the blue roll cart
 s on the 2nd and 4th Thursdays of the month in Sherwood Forest.
CATEGORIES:City Services
END:VEVENT
BEGIN:VTIMEZONE
TZID:America/New_York
X-LIC-LOCATION:America/New_York
BEGIN:STANDARD
DTSTART:20261101T010000
TZOFFSETFROM:-0400
TZOFFSETTO:-0500
TZNAME:EST
END:STANDARD
END:VTIMEZONE
END:VCALENDAR