BEGIN:VCALENDAR
VERSION:2.0
PRODID:-//wp-events-plugin.com//7.2.3.1//EN
TZID:America/New_York
X-WR-TIMEZONE:America/New_York
BEGIN:VEVENT
UID:1059@sherwoodforestneighbors.org
DTSTART;TZID=America/New_York:20231214T070000
DTEND;TZID=America/New_York:20231214T190000
DTSTAMP:20231024T021329Z
URL:https://sherwoodforestneighbors.org/calendar/recycling-pickup-2-2023-1
 2-14
SUMMARY:Recycling Pickup
DESCRIPTION:The City of Columbia picks up recycling from the blue roll cart
 s on the 2nd and 4th Thursdays of the month in Sherwood Forest.
CATEGORIES:City Services
END:VEVENT
BEGIN:VTIMEZONE
TZID:America/New_York
X-LIC-LOCATION:America/New_York
BEGIN:STANDARD
DTSTART:20231105T010000
TZOFFSETFROM:-0400
TZOFFSETTO:-0500
TZNAME:EST
END:STANDARD
END:VTIMEZONE
END:VCALENDAR