BEGIN:VCALENDAR
VERSION:2.0
PRODID:-//wp-events-plugin.com//7.2.3.1//EN
TZID:America/New_York
X-WR-TIMEZONE:America/New_York
BEGIN:VEVENT
UID:723@sherwoodforestneighbors.org
DTSTART;TZID=America/New_York:20190209T120000
DTEND;TZID=America/New_York:20190209T140000
DTSTAMP:20190203T010707Z
URL:https://sherwoodforestneighbors.org/calendar/sherwood-forest-neighborh
 ood-association-2nd-annual-reunion-luncheon
SUMMARY:Sherwood Forest Neighborhood Association 2nd Annual Reunion Luncheo
 n
DESCRIPTION:The reunion will feature a presentation by local historian Sony
 a Renea Grantham\, a third generation resident of the Original Frogtown Co
 mmunity\, with more insight on the history and early lives of residents of
  Sherwood Forest and adjoining neighborhoods.\n\nThis is a followup to Ms 
 Grantham's popular 2018 presentation Over The Wall regarding the history o
 f Sherwood Forest and the Original Frogtown Community.\n\nLunch with dishe
 s reflecting African American and Southern food.\n\nPlease RSVP to Sonya H
 odges-Grantham at 803 586-2670 or sonya-grantham@outlook.com.
CATEGORIES:SFNA Events
LOCATION:Heathwood Park\, 800 Abelia Rd\, Columbia\, SC\, 29205\, United St
 ates
X-APPLE-STRUCTURED-LOCATION;VALUE=URI;X-ADDRESS=800 Abelia Rd\, Columbia\, 
 SC\, 29205\, United States;X-APPLE-RADIUS=100;X-TITLE=Heathwood Park:geo:0
 ,0
END:VEVENT
BEGIN:VTIMEZONE
TZID:America/New_York
X-LIC-LOCATION:America/New_York
BEGIN:STANDARD
DTSTART:20181104T010000
TZOFFSETFROM:-0400
TZOFFSETTO:-0500
TZNAME:EST
END:STANDARD
END:VTIMEZONE
END:VCALENDAR