BEGIN:VCALENDAR
VERSION:2.0
PRODID:-//wp-events-plugin.com//7.2.3.1//EN
TZID:America/New_York
X-WR-TIMEZONE:America/New_York
BEGIN:VEVENT
UID:729@sherwoodforestneighbors.org
DTSTART;TZID=America/New_York:20200110T180000
DTEND;TZID=America/New_York:20200110T210000
DTSTAMP:20191226T081102Z
URL:https://sherwoodforestneighbors.org/calendar/the-twelfth-night-adult-p
 arty
SUMMARY:The Twelfth Night Adult Party!
DESCRIPTION:The Twelfth Night Party will be on Friday\, January 10 from 6pm
  until 9pm. This year there will be valet parking in the driveway for hand
 icapped partygoers or others in need. Others can park at the Piggly Wiggly
  or just walk!\n\nThe 2020 Party will be a Birthday Party! We will be cele
 brating the 100th birthday of Bloomwood\, the original 1920’s home of W.
  Gordon Belser. The original architectural drawings for the house date fro
 m the spring and summer of 1919. Nineteen twenty would be the first year o
 f its occupancy. While a few changes and additions have been made over its
  100 years\, the house remains essentially as it was originally designed a
 nd built.\n\nThere will be cake\, not a King’s cake but a Birthday Cake!
 \n\nThe association will provide a HoneyBaked ham\, beer\, wine and soft d
 rinks. We ask if you can come that you bring a side dish\, snack or desser
 t.\n\nThis event has always been lots of fun and a great opportunity to ge
 t to know your neighbors. If you have a neighbor who hasn't attended\, bri
 ng 'em along!
CATEGORIES:SFNA Events
LOCATION:Bloomwood\, 530 Kilbourne Rd\, Columbia\, SC\, 29205\, United Stat
 es
GEO:33.995377;-80.98719189999997
X-APPLE-STRUCTURED-LOCATION;VALUE=URI;X-ADDRESS=530 Kilbourne Rd\, Columbia
 \, SC\, 29205\, United States;X-APPLE-RADIUS=100;X-TITLE=Bloomwood:geo:33.
 995377,-80.98719189999997
END:VEVENT
BEGIN:VTIMEZONE
TZID:America/New_York
X-LIC-LOCATION:America/New_York
BEGIN:STANDARD
DTSTART:20191103T010000
TZOFFSETFROM:-0400
TZOFFSETTO:-0500
TZNAME:EST
END:STANDARD
END:VTIMEZONE
END:VCALENDAR